BEGIN:VCALENDAR
VERSION:2.0
PRODID:-//Visit Bath County - ECPv6.15.20//NONSGML v1.0//EN
CALSCALE:GREGORIAN
METHOD:PUBLISH
X-WR-CALNAME:Visit Bath County
X-ORIGINAL-URL:https://visitbathva.com
X-WR-CALDESC:Events for Visit Bath County
REFRESH-INTERVAL;VALUE=DURATION:PT1H
X-Robots-Tag:noindex
X-PUBLISHED-TTL:PT1H
BEGIN:VTIMEZONE
TZID:America/Indiana/Indianapolis
BEGIN:DAYLIGHT
TZOFFSETFROM:-0500
TZOFFSETTO:-0400
TZNAME:EDT
DTSTART:20250309T070000
END:DAYLIGHT
BEGIN:STANDARD
TZOFFSETFROM:-0400
TZOFFSETTO:-0500
TZNAME:EST
DTSTART:20251102T060000
END:STANDARD
BEGIN:DAYLIGHT
TZOFFSETFROM:-0500
TZOFFSETTO:-0400
TZNAME:EDT
DTSTART:20260308T070000
END:DAYLIGHT
BEGIN:STANDARD
TZOFFSETFROM:-0400
TZOFFSETTO:-0500
TZNAME:EST
DTSTART:20261101T060000
END:STANDARD
BEGIN:DAYLIGHT
TZOFFSETFROM:-0500
TZOFFSETTO:-0400
TZNAME:EDT
DTSTART:20270314T070000
END:DAYLIGHT
BEGIN:STANDARD
TZOFFSETFROM:-0400
TZOFFSETTO:-0500
TZNAME:EST
DTSTART:20271107T060000
END:STANDARD
END:VTIMEZONE
BEGIN:VEVENT
DTSTART;TZID=America/Indiana/Indianapolis:20260714T180000
DTEND;TZID=America/Indiana/Indianapolis:20260714T190000
DTSTAMP:20260419T153946
CREATED:20260128T024404Z
LAST-MODIFIED:20260415T085113Z
UID:10001411-1784052000-1784055600@visitbathva.com
SUMMARY:Bath County Board of Supervisors
DESCRIPTION:The Bath County Board of Supervisors will hold their regularly scheduled monthly meeting Tuesday\, July 14th at 6 p.m. in the General District Courtroom of the Bath County Courthouse\, 65 Courthouse Hill Road\, Warm Springs\, VA 24484.
URL:https://visitbathva.com/event/bath-county-board-of-supervisors-7/
LOCATION:General District Courtroom\, 101 Courthouse Hill Rd\, Warm Springs\, VA\, United States
CATEGORIES:Board of Supervisor's Meeting,Community
GEO:38.04504;-79.786692
X-APPLE-STRUCTURED-LOCATION;VALUE=URI;X-ADDRESS=General District Courtroom 101 Courthouse Hill Rd Warm Springs VA United States;X-APPLE-RADIUS=500;X-TITLE=101 Courthouse Hill Rd:geo:-79.786692,38.04504
END:VEVENT
BEGIN:VEVENT
DTSTART;TZID=America/Indiana/Indianapolis:20260811T180000
DTEND;TZID=America/Indiana/Indianapolis:20260811T190000
DTSTAMP:20260419T153946
CREATED:20260128T024408Z
LAST-MODIFIED:20260415T085351Z
UID:10001412-1786471200-1786474800@visitbathva.com
SUMMARY:Bath County Board of Supervisors
DESCRIPTION:The Bath County Board of Supervisors will hold their regularly scheduled monthly meeting Tuesday\, August 11th at 6 p.m. in the General District Courtroom of the Bath County Courthouse\, 65 Courthouse Hill Road\, Warm Springs\, VA 24484.
URL:https://visitbathva.com/event/bath-county-board-of-supervisors-8/
LOCATION:General District Courtroom\, 101 Courthouse Hill Rd\, Warm Springs\, VA\, United States
CATEGORIES:Board of Supervisor's Meeting,Community
GEO:38.04504;-79.786692
X-APPLE-STRUCTURED-LOCATION;VALUE=URI;X-ADDRESS=General District Courtroom 101 Courthouse Hill Rd Warm Springs VA United States;X-APPLE-RADIUS=500;X-TITLE=101 Courthouse Hill Rd:geo:-79.786692,38.04504
END:VEVENT
BEGIN:VEVENT
DTSTART;TZID=America/Indiana/Indianapolis:20260908T180000
DTEND;TZID=America/Indiana/Indianapolis:20260908T190000
DTSTAMP:20260419T153946
CREATED:20260128T024413Z
LAST-MODIFIED:20260128T024746Z
UID:10001414-1788890400-1788894000@visitbathva.com
SUMMARY:Bath County Board of Supervisors
DESCRIPTION:The Bath County Board of Supervisors will hold their regularly scheduled monthly meeting\, Tuesday\, September 8th at 6 p.m. in the General District Courtroom of the Bath County Courthouse\, 65 Courthouse Hill Road\, Warm Springs\, VA 24484. 
URL:https://visitbathva.com/event/bath-county-board-of-supervisors-9/
LOCATION:General District Courtroom\, 101 Courthouse Hill Rd\, Warm Springs\, VA\, United States
CATEGORIES:Board of Supervisor's Meeting,Community
GEO:38.04504;-79.786692
X-APPLE-STRUCTURED-LOCATION;VALUE=URI;X-ADDRESS=General District Courtroom 101 Courthouse Hill Rd Warm Springs VA United States;X-APPLE-RADIUS=500;X-TITLE=101 Courthouse Hill Rd:geo:-79.786692,38.04504
END:VEVENT
BEGIN:VEVENT
DTSTART;TZID=America/Indiana/Indianapolis:20261013T180000
DTEND;TZID=America/Indiana/Indianapolis:20261013T190000
DTSTAMP:20260419T153946
CREATED:20260128T024436Z
LAST-MODIFIED:20260128T024755Z
UID:10001416-1791914400-1791918000@visitbathva.com
SUMMARY:Bath County Board of Supervisors
DESCRIPTION:The Bath County Board of Supervisors will hold their regularly scheduled monthly meeting\, Tuesday\, October 13th at 6 p.m. in the General District Courtroom of the Bath County Courthouse\, 65 Courthouse Hill Road\, Warm Springs\, VA 24484.
URL:https://visitbathva.com/event/bath-county-board-of-supervisors-10/
LOCATION:General District Courtroom\, 101 Courthouse Hill Rd\, Warm Springs\, VA\, United States
CATEGORIES:Board of Supervisor's Meeting,Community
GEO:38.04504;-79.786692
X-APPLE-STRUCTURED-LOCATION;VALUE=URI;X-ADDRESS=General District Courtroom 101 Courthouse Hill Rd Warm Springs VA United States;X-APPLE-RADIUS=500;X-TITLE=101 Courthouse Hill Rd:geo:-79.786692,38.04504
END:VEVENT
BEGIN:VEVENT
DTSTART;TZID=America/Indiana/Indianapolis:20261110T180000
DTEND;TZID=America/Indiana/Indianapolis:20261110T190000
DTSTAMP:20260419T153946
CREATED:20260128T024442Z
LAST-MODIFIED:20260128T024801Z
UID:10001418-1794333600-1794337200@visitbathva.com
SUMMARY:Bath County Board of Supervisors
DESCRIPTION:The Bath County Board of Supervisors will hold its regularly scheduled monthly meeting\, Tuesday\, November 10th at 6 p.m. in the General District Courtroom of the Bath County Courthouse\, 65 Courthouse Hill Road\, Warm Springs\, VA 24484.
URL:https://visitbathva.com/event/bath-county-board-of-supervisors-11/
LOCATION:General District Courtroom\, 101 Courthouse Hill Rd\, Warm Springs\, VA\, United States
CATEGORIES:Board of Supervisor's Meeting,Community
GEO:38.04504;-79.786692
X-APPLE-STRUCTURED-LOCATION;VALUE=URI;X-ADDRESS=General District Courtroom 101 Courthouse Hill Rd Warm Springs VA United States;X-APPLE-RADIUS=500;X-TITLE=101 Courthouse Hill Rd:geo:-79.786692,38.04504
END:VEVENT
BEGIN:VEVENT
DTSTART;TZID=America/Indiana/Indianapolis:20261208T180000
DTEND;TZID=America/Indiana/Indianapolis:20261208T190000
DTSTAMP:20260419T153946
CREATED:20260128T024504Z
LAST-MODIFIED:20260128T024807Z
UID:10001419-1796752800-1796756400@visitbathva.com
SUMMARY:Bath County Board of Supervisors
DESCRIPTION:The Bath County Board of Supervisors will hold its regularly scheduled monthly meeting\, Tuesday\, December 6th at 6 p.m. in the General District Courtroom of the Bath County Courthouse\, 65 Courthouse Hill Road\, Warm Springs\, VA 24484.
URL:https://visitbathva.com/event/bath-county-board-of-supervisors-12/
LOCATION:General District Courtroom\, 101 Courthouse Hill Rd\, Warm Springs\, VA\, United States
CATEGORIES:Board of Supervisor's Meeting,Community
GEO:38.04504;-79.786692
X-APPLE-STRUCTURED-LOCATION;VALUE=URI;X-ADDRESS=General District Courtroom 101 Courthouse Hill Rd Warm Springs VA United States;X-APPLE-RADIUS=500;X-TITLE=101 Courthouse Hill Rd:geo:-79.786692,38.04504
END:VEVENT
END:VCALENDAR