BEGIN:VCALENDAR
VERSION:2.0
PRODID:-//Visit Bath County - ECPv6.15.20//NONSGML v1.0//EN
CALSCALE:GREGORIAN
METHOD:PUBLISH
X-WR-CALNAME:Visit Bath County
X-ORIGINAL-URL:https://visitbathva.com
X-WR-CALDESC:Events for Visit Bath County
REFRESH-INTERVAL;VALUE=DURATION:PT1H
X-Robots-Tag:noindex
X-PUBLISHED-TTL:PT1H
BEGIN:VTIMEZONE
TZID:America/Indiana/Indianapolis
BEGIN:DAYLIGHT
TZOFFSETFROM:-0500
TZOFFSETTO:-0400
TZNAME:EDT
DTSTART:20240310T070000
END:DAYLIGHT
BEGIN:STANDARD
TZOFFSETFROM:-0400
TZOFFSETTO:-0500
TZNAME:EST
DTSTART:20241103T060000
END:STANDARD
BEGIN:DAYLIGHT
TZOFFSETFROM:-0500
TZOFFSETTO:-0400
TZNAME:EDT
DTSTART:20250309T070000
END:DAYLIGHT
BEGIN:STANDARD
TZOFFSETFROM:-0400
TZOFFSETTO:-0500
TZNAME:EST
DTSTART:20251102T060000
END:STANDARD
BEGIN:DAYLIGHT
TZOFFSETFROM:-0500
TZOFFSETTO:-0400
TZNAME:EDT
DTSTART:20260308T070000
END:DAYLIGHT
BEGIN:STANDARD
TZOFFSETFROM:-0400
TZOFFSETTO:-0500
TZNAME:EST
DTSTART:20261101T060000
END:STANDARD
END:VTIMEZONE
BEGIN:VEVENT
DTSTART;TZID=America/Indiana/Indianapolis:20251209T180000
DTEND;TZID=America/Indiana/Indianapolis:20251209T200000
DTSTAMP:20260419T172704
CREATED:20251027T193053Z
LAST-MODIFIED:20260311T040047Z
UID:10000016-1765303200-1765310400@visitbathva.com
SUMMARY:BOS Meeting - Bath County Board of Supervisors
DESCRIPTION:The Bath County Board of Supervisors will hold their regularly scheduled monthly meeting Tuesday\, December 9th at 6 p.m. in the General District Courtroom of the Bath County Courthouse.  \n \nPUBLIC NOTICE\nBath County Board of Supervisors will meet on December 9\, 2025\, at 6:00 p.m.\, or as soon thereafter\, in Room 115 of the Bath County Courthouse to receive public input on\, discuss\, and consider amending the Bath County Code\, Chapter 9\, Elections Section 9-5 Precincts Names and Polling Places.  \nA complete copy of proposed amendment is available on the Bath County website www.bathcountyva.gov or at the Office of the County Administrator located at 65 Courthouse Hill Road\, Warm Springs\, VA during normal business hours. \n  \n            Please address correspondence to:  Bath County Administration\, PO Box 309\, Warm Springs\, Virginia 24484 or via email publiccomment@bathcountyva.gov . For more information\, contact Bath County Administration by calling (540) 839-7221\, or toll free for residents outside the local calling area at (888)823-1710.   \n            Bath County intends to comply with the requirements of the Americans with Disabilities Act. Should you need special assistance or accommodation in order to participate in the public hearing\, please contact County Administration at least two working days prior to the hearing. \n  \n  \n 
URL:https://visitbathva.com/event/bath-county-board-of-supervisors-2/
LOCATION:General District Courtroom\, 101 Courthouse Hill Rd\, Warm Springs\, VA\, United States
CATEGORIES:Board of Supervisor's Meeting,Community
GEO:38.04504;-79.786692
X-APPLE-STRUCTURED-LOCATION;VALUE=URI;X-ADDRESS=General District Courtroom 101 Courthouse Hill Rd Warm Springs VA United States;X-APPLE-RADIUS=500;X-TITLE=101 Courthouse Hill Rd:geo:-79.786692,38.04504
END:VEVENT
BEGIN:VEVENT
DTSTART;TZID=America/Indiana/Indianapolis:20251110T180000
DTEND;TZID=America/Indiana/Indianapolis:20251110T200000
DTSTAMP:20260419T172704
CREATED:20251027T193032Z
LAST-MODIFIED:20260211T031227Z
UID:10000009-1762797600-1762804800@visitbathva.com
SUMMARY:Bath County Board of Supervisors
DESCRIPTION:NOTE THIS MEETING IS ON MONDAY\, NOVEMBER 10TH DUE TO VETERAN’S DAY. The Bath County Board of Supervisors will hold their regularly scheduled monthly meeting Monday\, November 10th at 6 p.m. in the General District Courtroom of the Bath County Courthouse. 
URL:https://visitbathva.com/event/bath-county-board-of-supervisors/
LOCATION:General District Courtroom\, 101 Courthouse Hill Rd\, Warm Springs\, VA\, United States
CATEGORIES:Board of Supervisor's Meeting,Community
GEO:38.04504;-79.786692
X-APPLE-STRUCTURED-LOCATION;VALUE=URI;X-ADDRESS=General District Courtroom 101 Courthouse Hill Rd Warm Springs VA United States;X-APPLE-RADIUS=500;X-TITLE=101 Courthouse Hill Rd:geo:-79.786692,38.04504
END:VEVENT
END:VCALENDAR