BEGIN:VCALENDAR
VERSION:2.0
PRODID:-//Visit Bath County - ECPv6.15.20//NONSGML v1.0//EN
CALSCALE:GREGORIAN
METHOD:PUBLISH
X-WR-CALNAME:Visit Bath County
X-ORIGINAL-URL:https://visitbathva.com
X-WR-CALDESC:Events for Visit Bath County
REFRESH-INTERVAL;VALUE=DURATION:PT1H
X-Robots-Tag:noindex
X-PUBLISHED-TTL:PT1H
BEGIN:VTIMEZONE
TZID:America/New_York
BEGIN:DAYLIGHT
TZOFFSETFROM:-0500
TZOFFSETTO:-0400
TZNAME:EDT
DTSTART:20250309T070000
END:DAYLIGHT
BEGIN:STANDARD
TZOFFSETFROM:-0400
TZOFFSETTO:-0500
TZNAME:EST
DTSTART:20251102T060000
END:STANDARD
BEGIN:DAYLIGHT
TZOFFSETFROM:-0500
TZOFFSETTO:-0400
TZNAME:EDT
DTSTART:20260308T070000
END:DAYLIGHT
BEGIN:STANDARD
TZOFFSETFROM:-0400
TZOFFSETTO:-0500
TZNAME:EST
DTSTART:20261101T060000
END:STANDARD
BEGIN:DAYLIGHT
TZOFFSETFROM:-0500
TZOFFSETTO:-0400
TZNAME:EDT
DTSTART:20270314T070000
END:DAYLIGHT
BEGIN:STANDARD
TZOFFSETFROM:-0400
TZOFFSETTO:-0500
TZNAME:EST
DTSTART:20271107T060000
END:STANDARD
END:VTIMEZONE
BEGIN:VEVENT
DTSTART;TZID=America/New_York:20260422T140000
DTEND;TZID=America/New_York:20260422T160000
DTSTAMP:20260421T044905
CREATED:20251031T183152Z
LAST-MODIFIED:20251031T183152Z
UID:10000190-1776866400-1776873600@visitbathva.com
SUMMARY:Medicare Open Enrollment
DESCRIPTION:Let’s get you ready! VPAS Medicare Counselors will help you evaluate the benefits you need\, understand out of pocket cots\, and identify the best pharmacies and medical providers for your plan. Open enrollment ends December 7th. \n  \nAppointments available: \nMondays\, 9am-3pm \nWednesdays\, 2pm-4pm \nThird Tuesdays\, 9am-3pm \n  \nTo schedule an appointment\, call Bath Community Hospital from 7am-5:30pm\, Mon-Fri. at 866-839-7100\, of call Ashley Hutchinson at 540-468-1975.
URL:https://visitbathva.com/event/medicare-open-enrollment-2/2026-04-22/
LOCATION:Bath Community Hospital\, 106 Park Drive\, Hot Springs\, VA\, 24445
CATEGORIES:Community
END:VEVENT
BEGIN:VEVENT
DTSTART;TZID=America/New_York:20260427T090000
DTEND;TZID=America/New_York:20260427T150000
DTSTAMP:20260421T044905
CREATED:20251031T183039Z
LAST-MODIFIED:20251031T183039Z
UID:10000133-1777280400-1777302000@visitbathva.com
SUMMARY:Medicare Open Enrollment
DESCRIPTION:Let’s get you ready! VPAS Medicare Counselors will help you evaluate the benefits you need\, understand out of pocket cots\, and identify the best pharmacies and medical providers for your plan. Open enrollment ends December 7th. \n  \nAppointments available: \nMondays\, 9am-3pm \nWednesdays\, 2pm-4pm \nThird Tuesdays\, 9am-3pm \n  \nTo schedule an appointment\, call Bath Community Hospital from 7am-5:30pm\, Mon-Fri. at 866-839-7100\, of call Ashley Hutchinson at 540-468-1975.
URL:https://visitbathva.com/event/medicare-open-enrollment/2026-04-27/
LOCATION:Bath Community Hospital\, 106 Park Drive\, Hot Springs\, VA\, 24445
CATEGORIES:Community
END:VEVENT
BEGIN:VEVENT
DTSTART;TZID=America/New_York:20260429T140000
DTEND;TZID=America/New_York:20260429T160000
DTSTAMP:20260421T044905
CREATED:20251031T183152Z
LAST-MODIFIED:20251031T183152Z
UID:10000191-1777471200-1777478400@visitbathva.com
SUMMARY:Medicare Open Enrollment
DESCRIPTION:Let’s get you ready! VPAS Medicare Counselors will help you evaluate the benefits you need\, understand out of pocket cots\, and identify the best pharmacies and medical providers for your plan. Open enrollment ends December 7th. \n  \nAppointments available: \nMondays\, 9am-3pm \nWednesdays\, 2pm-4pm \nThird Tuesdays\, 9am-3pm \n  \nTo schedule an appointment\, call Bath Community Hospital from 7am-5:30pm\, Mon-Fri. at 866-839-7100\, of call Ashley Hutchinson at 540-468-1975.
URL:https://visitbathva.com/event/medicare-open-enrollment-2/2026-04-29/
LOCATION:Bath Community Hospital\, 106 Park Drive\, Hot Springs\, VA\, 24445
CATEGORIES:Community
END:VEVENT
BEGIN:VEVENT
DTSTART;TZID=America/New_York:20260504T090000
DTEND;TZID=America/New_York:20260504T150000
DTSTAMP:20260421T044905
CREATED:20251031T183039Z
LAST-MODIFIED:20251031T183039Z
UID:10000134-1777885200-1777906800@visitbathva.com
SUMMARY:Medicare Open Enrollment
DESCRIPTION:Let’s get you ready! VPAS Medicare Counselors will help you evaluate the benefits you need\, understand out of pocket cots\, and identify the best pharmacies and medical providers for your plan. Open enrollment ends December 7th. \n  \nAppointments available: \nMondays\, 9am-3pm \nWednesdays\, 2pm-4pm \nThird Tuesdays\, 9am-3pm \n  \nTo schedule an appointment\, call Bath Community Hospital from 7am-5:30pm\, Mon-Fri. at 866-839-7100\, of call Ashley Hutchinson at 540-468-1975.
URL:https://visitbathva.com/event/medicare-open-enrollment/2026-05-04/
LOCATION:Bath Community Hospital\, 106 Park Drive\, Hot Springs\, VA\, 24445
CATEGORIES:Community
END:VEVENT
BEGIN:VEVENT
DTSTART;TZID=America/New_York:20260506T140000
DTEND;TZID=America/New_York:20260506T160000
DTSTAMP:20260421T044905
CREATED:20251031T183152Z
LAST-MODIFIED:20251031T183152Z
UID:10000192-1778076000-1778083200@visitbathva.com
SUMMARY:Medicare Open Enrollment
DESCRIPTION:Let’s get you ready! VPAS Medicare Counselors will help you evaluate the benefits you need\, understand out of pocket cots\, and identify the best pharmacies and medical providers for your plan. Open enrollment ends December 7th. \n  \nAppointments available: \nMondays\, 9am-3pm \nWednesdays\, 2pm-4pm \nThird Tuesdays\, 9am-3pm \n  \nTo schedule an appointment\, call Bath Community Hospital from 7am-5:30pm\, Mon-Fri. at 866-839-7100\, of call Ashley Hutchinson at 540-468-1975.
URL:https://visitbathva.com/event/medicare-open-enrollment-2/2026-05-06/
LOCATION:Bath Community Hospital\, 106 Park Drive\, Hot Springs\, VA\, 24445
CATEGORIES:Community
END:VEVENT
BEGIN:VEVENT
DTSTART;TZID=America/New_York:20260511T090000
DTEND;TZID=America/New_York:20260511T150000
DTSTAMP:20260421T044905
CREATED:20251031T183039Z
LAST-MODIFIED:20251031T183039Z
UID:10000135-1778490000-1778511600@visitbathva.com
SUMMARY:Medicare Open Enrollment
DESCRIPTION:Let’s get you ready! VPAS Medicare Counselors will help you evaluate the benefits you need\, understand out of pocket cots\, and identify the best pharmacies and medical providers for your plan. Open enrollment ends December 7th. \n  \nAppointments available: \nMondays\, 9am-3pm \nWednesdays\, 2pm-4pm \nThird Tuesdays\, 9am-3pm \n  \nTo schedule an appointment\, call Bath Community Hospital from 7am-5:30pm\, Mon-Fri. at 866-839-7100\, of call Ashley Hutchinson at 540-468-1975.
URL:https://visitbathva.com/event/medicare-open-enrollment/2026-05-11/
LOCATION:Bath Community Hospital\, 106 Park Drive\, Hot Springs\, VA\, 24445
CATEGORIES:Community
END:VEVENT
BEGIN:VEVENT
DTSTART;TZID=America/New_York:20260513T140000
DTEND;TZID=America/New_York:20260513T160000
DTSTAMP:20260421T044905
CREATED:20251031T183152Z
LAST-MODIFIED:20251031T183152Z
UID:10000193-1778680800-1778688000@visitbathva.com
SUMMARY:Medicare Open Enrollment
DESCRIPTION:Let’s get you ready! VPAS Medicare Counselors will help you evaluate the benefits you need\, understand out of pocket cots\, and identify the best pharmacies and medical providers for your plan. Open enrollment ends December 7th. \n  \nAppointments available: \nMondays\, 9am-3pm \nWednesdays\, 2pm-4pm \nThird Tuesdays\, 9am-3pm \n  \nTo schedule an appointment\, call Bath Community Hospital from 7am-5:30pm\, Mon-Fri. at 866-839-7100\, of call Ashley Hutchinson at 540-468-1975.
URL:https://visitbathva.com/event/medicare-open-enrollment-2/2026-05-13/
LOCATION:Bath Community Hospital\, 106 Park Drive\, Hot Springs\, VA\, 24445
CATEGORIES:Community
END:VEVENT
BEGIN:VEVENT
DTSTART;TZID=America/New_York:20260518T090000
DTEND;TZID=America/New_York:20260518T150000
DTSTAMP:20260421T044905
CREATED:20251031T183039Z
LAST-MODIFIED:20251031T183039Z
UID:10000136-1779094800-1779116400@visitbathva.com
SUMMARY:Medicare Open Enrollment
DESCRIPTION:Let’s get you ready! VPAS Medicare Counselors will help you evaluate the benefits you need\, understand out of pocket cots\, and identify the best pharmacies and medical providers for your plan. Open enrollment ends December 7th. \n  \nAppointments available: \nMondays\, 9am-3pm \nWednesdays\, 2pm-4pm \nThird Tuesdays\, 9am-3pm \n  \nTo schedule an appointment\, call Bath Community Hospital from 7am-5:30pm\, Mon-Fri. at 866-839-7100\, of call Ashley Hutchinson at 540-468-1975.
URL:https://visitbathva.com/event/medicare-open-enrollment/2026-05-18/
LOCATION:Bath Community Hospital\, 106 Park Drive\, Hot Springs\, VA\, 24445
CATEGORIES:Community
END:VEVENT
BEGIN:VEVENT
DTSTART;TZID=America/New_York:20260520T140000
DTEND;TZID=America/New_York:20260520T160000
DTSTAMP:20260421T044905
CREATED:20251031T183152Z
LAST-MODIFIED:20251031T183152Z
UID:10000194-1779285600-1779292800@visitbathva.com
SUMMARY:Medicare Open Enrollment
DESCRIPTION:Let’s get you ready! VPAS Medicare Counselors will help you evaluate the benefits you need\, understand out of pocket cots\, and identify the best pharmacies and medical providers for your plan. Open enrollment ends December 7th. \n  \nAppointments available: \nMondays\, 9am-3pm \nWednesdays\, 2pm-4pm \nThird Tuesdays\, 9am-3pm \n  \nTo schedule an appointment\, call Bath Community Hospital from 7am-5:30pm\, Mon-Fri. at 866-839-7100\, of call Ashley Hutchinson at 540-468-1975.
URL:https://visitbathva.com/event/medicare-open-enrollment-2/2026-05-20/
LOCATION:Bath Community Hospital\, 106 Park Drive\, Hot Springs\, VA\, 24445
CATEGORIES:Community
END:VEVENT
BEGIN:VEVENT
DTSTART;TZID=America/New_York:20260525T090000
DTEND;TZID=America/New_York:20260525T150000
DTSTAMP:20260421T044905
CREATED:20251031T183039Z
LAST-MODIFIED:20251031T183039Z
UID:10000137-1779699600-1779721200@visitbathva.com
SUMMARY:Medicare Open Enrollment
DESCRIPTION:Let’s get you ready! VPAS Medicare Counselors will help you evaluate the benefits you need\, understand out of pocket cots\, and identify the best pharmacies and medical providers for your plan. Open enrollment ends December 7th. \n  \nAppointments available: \nMondays\, 9am-3pm \nWednesdays\, 2pm-4pm \nThird Tuesdays\, 9am-3pm \n  \nTo schedule an appointment\, call Bath Community Hospital from 7am-5:30pm\, Mon-Fri. at 866-839-7100\, of call Ashley Hutchinson at 540-468-1975.
URL:https://visitbathva.com/event/medicare-open-enrollment/2026-05-25/
LOCATION:Bath Community Hospital\, 106 Park Drive\, Hot Springs\, VA\, 24445
CATEGORIES:Community
END:VEVENT
BEGIN:VEVENT
DTSTART;TZID=America/New_York:20260527T140000
DTEND;TZID=America/New_York:20260527T160000
DTSTAMP:20260421T044905
CREATED:20251031T183152Z
LAST-MODIFIED:20251031T183152Z
UID:10000195-1779890400-1779897600@visitbathva.com
SUMMARY:Medicare Open Enrollment
DESCRIPTION:Let’s get you ready! VPAS Medicare Counselors will help you evaluate the benefits you need\, understand out of pocket cots\, and identify the best pharmacies and medical providers for your plan. Open enrollment ends December 7th. \n  \nAppointments available: \nMondays\, 9am-3pm \nWednesdays\, 2pm-4pm \nThird Tuesdays\, 9am-3pm \n  \nTo schedule an appointment\, call Bath Community Hospital from 7am-5:30pm\, Mon-Fri. at 866-839-7100\, of call Ashley Hutchinson at 540-468-1975.
URL:https://visitbathva.com/event/medicare-open-enrollment-2/2026-05-27/
LOCATION:Bath Community Hospital\, 106 Park Drive\, Hot Springs\, VA\, 24445
CATEGORIES:Community
END:VEVENT
BEGIN:VEVENT
DTSTART;TZID=America/New_York:20260601T090000
DTEND;TZID=America/New_York:20260601T150000
DTSTAMP:20260421T044905
CREATED:20251031T183039Z
LAST-MODIFIED:20251031T183039Z
UID:10000138-1780304400-1780326000@visitbathva.com
SUMMARY:Medicare Open Enrollment
DESCRIPTION:Let’s get you ready! VPAS Medicare Counselors will help you evaluate the benefits you need\, understand out of pocket cots\, and identify the best pharmacies and medical providers for your plan. Open enrollment ends December 7th. \n  \nAppointments available: \nMondays\, 9am-3pm \nWednesdays\, 2pm-4pm \nThird Tuesdays\, 9am-3pm \n  \nTo schedule an appointment\, call Bath Community Hospital from 7am-5:30pm\, Mon-Fri. at 866-839-7100\, of call Ashley Hutchinson at 540-468-1975.
URL:https://visitbathva.com/event/medicare-open-enrollment/2026-06-01/
LOCATION:Bath Community Hospital\, 106 Park Drive\, Hot Springs\, VA\, 24445
CATEGORIES:Community
END:VEVENT
BEGIN:VEVENT
DTSTART;TZID=America/New_York:20260603T140000
DTEND;TZID=America/New_York:20260603T160000
DTSTAMP:20260421T044905
CREATED:20251031T183152Z
LAST-MODIFIED:20251031T183152Z
UID:10000196-1780495200-1780502400@visitbathva.com
SUMMARY:Medicare Open Enrollment
DESCRIPTION:Let’s get you ready! VPAS Medicare Counselors will help you evaluate the benefits you need\, understand out of pocket cots\, and identify the best pharmacies and medical providers for your plan. Open enrollment ends December 7th. \n  \nAppointments available: \nMondays\, 9am-3pm \nWednesdays\, 2pm-4pm \nThird Tuesdays\, 9am-3pm \n  \nTo schedule an appointment\, call Bath Community Hospital from 7am-5:30pm\, Mon-Fri. at 866-839-7100\, of call Ashley Hutchinson at 540-468-1975.
URL:https://visitbathva.com/event/medicare-open-enrollment-2/2026-06-03/
LOCATION:Bath Community Hospital\, 106 Park Drive\, Hot Springs\, VA\, 24445
CATEGORIES:Community
END:VEVENT
BEGIN:VEVENT
DTSTART;TZID=America/New_York:20260608T090000
DTEND;TZID=America/New_York:20260608T150000
DTSTAMP:20260421T044905
CREATED:20251031T183039Z
LAST-MODIFIED:20251031T183039Z
UID:10000139-1780909200-1780930800@visitbathva.com
SUMMARY:Medicare Open Enrollment
DESCRIPTION:Let’s get you ready! VPAS Medicare Counselors will help you evaluate the benefits you need\, understand out of pocket cots\, and identify the best pharmacies and medical providers for your plan. Open enrollment ends December 7th. \n  \nAppointments available: \nMondays\, 9am-3pm \nWednesdays\, 2pm-4pm \nThird Tuesdays\, 9am-3pm \n  \nTo schedule an appointment\, call Bath Community Hospital from 7am-5:30pm\, Mon-Fri. at 866-839-7100\, of call Ashley Hutchinson at 540-468-1975.
URL:https://visitbathva.com/event/medicare-open-enrollment/2026-06-08/
LOCATION:Bath Community Hospital\, 106 Park Drive\, Hot Springs\, VA\, 24445
CATEGORIES:Community
END:VEVENT
BEGIN:VEVENT
DTSTART;TZID=America/New_York:20260610T140000
DTEND;TZID=America/New_York:20260610T160000
DTSTAMP:20260421T044905
CREATED:20251031T183152Z
LAST-MODIFIED:20251031T183152Z
UID:10000197-1781100000-1781107200@visitbathva.com
SUMMARY:Medicare Open Enrollment
DESCRIPTION:Let’s get you ready! VPAS Medicare Counselors will help you evaluate the benefits you need\, understand out of pocket cots\, and identify the best pharmacies and medical providers for your plan. Open enrollment ends December 7th. \n  \nAppointments available: \nMondays\, 9am-3pm \nWednesdays\, 2pm-4pm \nThird Tuesdays\, 9am-3pm \n  \nTo schedule an appointment\, call Bath Community Hospital from 7am-5:30pm\, Mon-Fri. at 866-839-7100\, of call Ashley Hutchinson at 540-468-1975.
URL:https://visitbathva.com/event/medicare-open-enrollment-2/2026-06-10/
LOCATION:Bath Community Hospital\, 106 Park Drive\, Hot Springs\, VA\, 24445
CATEGORIES:Community
END:VEVENT
BEGIN:VEVENT
DTSTART;TZID=America/New_York:20260615T090000
DTEND;TZID=America/New_York:20260615T150000
DTSTAMP:20260421T044905
CREATED:20251031T183039Z
LAST-MODIFIED:20251031T183039Z
UID:10000140-1781514000-1781535600@visitbathva.com
SUMMARY:Medicare Open Enrollment
DESCRIPTION:Let’s get you ready! VPAS Medicare Counselors will help you evaluate the benefits you need\, understand out of pocket cots\, and identify the best pharmacies and medical providers for your plan. Open enrollment ends December 7th. \n  \nAppointments available: \nMondays\, 9am-3pm \nWednesdays\, 2pm-4pm \nThird Tuesdays\, 9am-3pm \n  \nTo schedule an appointment\, call Bath Community Hospital from 7am-5:30pm\, Mon-Fri. at 866-839-7100\, of call Ashley Hutchinson at 540-468-1975.
URL:https://visitbathva.com/event/medicare-open-enrollment/2026-06-15/
LOCATION:Bath Community Hospital\, 106 Park Drive\, Hot Springs\, VA\, 24445
CATEGORIES:Community
END:VEVENT
BEGIN:VEVENT
DTSTART;TZID=America/New_York:20260617T140000
DTEND;TZID=America/New_York:20260617T160000
DTSTAMP:20260421T044905
CREATED:20251031T183152Z
LAST-MODIFIED:20251031T183152Z
UID:10000198-1781704800-1781712000@visitbathva.com
SUMMARY:Medicare Open Enrollment
DESCRIPTION:Let’s get you ready! VPAS Medicare Counselors will help you evaluate the benefits you need\, understand out of pocket cots\, and identify the best pharmacies and medical providers for your plan. Open enrollment ends December 7th. \n  \nAppointments available: \nMondays\, 9am-3pm \nWednesdays\, 2pm-4pm \nThird Tuesdays\, 9am-3pm \n  \nTo schedule an appointment\, call Bath Community Hospital from 7am-5:30pm\, Mon-Fri. at 866-839-7100\, of call Ashley Hutchinson at 540-468-1975.
URL:https://visitbathva.com/event/medicare-open-enrollment-2/2026-06-17/
LOCATION:Bath Community Hospital\, 106 Park Drive\, Hot Springs\, VA\, 24445
CATEGORIES:Community
END:VEVENT
BEGIN:VEVENT
DTSTART;TZID=America/New_York:20260622T090000
DTEND;TZID=America/New_York:20260622T150000
DTSTAMP:20260421T044905
CREATED:20251031T183039Z
LAST-MODIFIED:20251031T183039Z
UID:10000141-1782118800-1782140400@visitbathva.com
SUMMARY:Medicare Open Enrollment
DESCRIPTION:Let’s get you ready! VPAS Medicare Counselors will help you evaluate the benefits you need\, understand out of pocket cots\, and identify the best pharmacies and medical providers for your plan. Open enrollment ends December 7th. \n  \nAppointments available: \nMondays\, 9am-3pm \nWednesdays\, 2pm-4pm \nThird Tuesdays\, 9am-3pm \n  \nTo schedule an appointment\, call Bath Community Hospital from 7am-5:30pm\, Mon-Fri. at 866-839-7100\, of call Ashley Hutchinson at 540-468-1975.
URL:https://visitbathva.com/event/medicare-open-enrollment/2026-06-22/
LOCATION:Bath Community Hospital\, 106 Park Drive\, Hot Springs\, VA\, 24445
CATEGORIES:Community
END:VEVENT
BEGIN:VEVENT
DTSTART;TZID=America/New_York:20260624T140000
DTEND;TZID=America/New_York:20260624T160000
DTSTAMP:20260421T044905
CREATED:20251031T183152Z
LAST-MODIFIED:20251031T183152Z
UID:10000199-1782309600-1782316800@visitbathva.com
SUMMARY:Medicare Open Enrollment
DESCRIPTION:Let’s get you ready! VPAS Medicare Counselors will help you evaluate the benefits you need\, understand out of pocket cots\, and identify the best pharmacies and medical providers for your plan. Open enrollment ends December 7th. \n  \nAppointments available: \nMondays\, 9am-3pm \nWednesdays\, 2pm-4pm \nThird Tuesdays\, 9am-3pm \n  \nTo schedule an appointment\, call Bath Community Hospital from 7am-5:30pm\, Mon-Fri. at 866-839-7100\, of call Ashley Hutchinson at 540-468-1975.
URL:https://visitbathva.com/event/medicare-open-enrollment-2/2026-06-24/
LOCATION:Bath Community Hospital\, 106 Park Drive\, Hot Springs\, VA\, 24445
CATEGORIES:Community
END:VEVENT
BEGIN:VEVENT
DTSTART;TZID=America/New_York:20260629T090000
DTEND;TZID=America/New_York:20260629T150000
DTSTAMP:20260421T044905
CREATED:20251031T183039Z
LAST-MODIFIED:20251031T183039Z
UID:10000142-1782723600-1782745200@visitbathva.com
SUMMARY:Medicare Open Enrollment
DESCRIPTION:Let’s get you ready! VPAS Medicare Counselors will help you evaluate the benefits you need\, understand out of pocket cots\, and identify the best pharmacies and medical providers for your plan. Open enrollment ends December 7th. \n  \nAppointments available: \nMondays\, 9am-3pm \nWednesdays\, 2pm-4pm \nThird Tuesdays\, 9am-3pm \n  \nTo schedule an appointment\, call Bath Community Hospital from 7am-5:30pm\, Mon-Fri. at 866-839-7100\, of call Ashley Hutchinson at 540-468-1975.
URL:https://visitbathva.com/event/medicare-open-enrollment/2026-06-29/
LOCATION:Bath Community Hospital\, 106 Park Drive\, Hot Springs\, VA\, 24445
CATEGORIES:Community
END:VEVENT
BEGIN:VEVENT
DTSTART;TZID=America/New_York:20260701T140000
DTEND;TZID=America/New_York:20260701T160000
DTSTAMP:20260421T044905
CREATED:20251031T183152Z
LAST-MODIFIED:20251031T183152Z
UID:10000200-1782914400-1782921600@visitbathva.com
SUMMARY:Medicare Open Enrollment
DESCRIPTION:Let’s get you ready! VPAS Medicare Counselors will help you evaluate the benefits you need\, understand out of pocket cots\, and identify the best pharmacies and medical providers for your plan. Open enrollment ends December 7th. \n  \nAppointments available: \nMondays\, 9am-3pm \nWednesdays\, 2pm-4pm \nThird Tuesdays\, 9am-3pm \n  \nTo schedule an appointment\, call Bath Community Hospital from 7am-5:30pm\, Mon-Fri. at 866-839-7100\, of call Ashley Hutchinson at 540-468-1975.
URL:https://visitbathva.com/event/medicare-open-enrollment-2/2026-07-01/
LOCATION:Bath Community Hospital\, 106 Park Drive\, Hot Springs\, VA\, 24445
CATEGORIES:Community
END:VEVENT
BEGIN:VEVENT
DTSTART;TZID=America/New_York:20260706T090000
DTEND;TZID=America/New_York:20260706T150000
DTSTAMP:20260421T044905
CREATED:20251031T183039Z
LAST-MODIFIED:20251031T183039Z
UID:10000143-1783328400-1783350000@visitbathva.com
SUMMARY:Medicare Open Enrollment
DESCRIPTION:Let’s get you ready! VPAS Medicare Counselors will help you evaluate the benefits you need\, understand out of pocket cots\, and identify the best pharmacies and medical providers for your plan. Open enrollment ends December 7th. \n  \nAppointments available: \nMondays\, 9am-3pm \nWednesdays\, 2pm-4pm \nThird Tuesdays\, 9am-3pm \n  \nTo schedule an appointment\, call Bath Community Hospital from 7am-5:30pm\, Mon-Fri. at 866-839-7100\, of call Ashley Hutchinson at 540-468-1975.
URL:https://visitbathva.com/event/medicare-open-enrollment/2026-07-06/
LOCATION:Bath Community Hospital\, 106 Park Drive\, Hot Springs\, VA\, 24445
CATEGORIES:Community
END:VEVENT
BEGIN:VEVENT
DTSTART;TZID=America/New_York:20260708T140000
DTEND;TZID=America/New_York:20260708T160000
DTSTAMP:20260421T044905
CREATED:20251031T183152Z
LAST-MODIFIED:20251031T183152Z
UID:10000201-1783519200-1783526400@visitbathva.com
SUMMARY:Medicare Open Enrollment
DESCRIPTION:Let’s get you ready! VPAS Medicare Counselors will help you evaluate the benefits you need\, understand out of pocket cots\, and identify the best pharmacies and medical providers for your plan. Open enrollment ends December 7th. \n  \nAppointments available: \nMondays\, 9am-3pm \nWednesdays\, 2pm-4pm \nThird Tuesdays\, 9am-3pm \n  \nTo schedule an appointment\, call Bath Community Hospital from 7am-5:30pm\, Mon-Fri. at 866-839-7100\, of call Ashley Hutchinson at 540-468-1975.
URL:https://visitbathva.com/event/medicare-open-enrollment-2/2026-07-08/
LOCATION:Bath Community Hospital\, 106 Park Drive\, Hot Springs\, VA\, 24445
CATEGORIES:Community
END:VEVENT
BEGIN:VEVENT
DTSTART;TZID=America/New_York:20260713T090000
DTEND;TZID=America/New_York:20260713T150000
DTSTAMP:20260421T044905
CREATED:20251031T183039Z
LAST-MODIFIED:20251031T183039Z
UID:10000144-1783933200-1783954800@visitbathva.com
SUMMARY:Medicare Open Enrollment
DESCRIPTION:Let’s get you ready! VPAS Medicare Counselors will help you evaluate the benefits you need\, understand out of pocket cots\, and identify the best pharmacies and medical providers for your plan. Open enrollment ends December 7th. \n  \nAppointments available: \nMondays\, 9am-3pm \nWednesdays\, 2pm-4pm \nThird Tuesdays\, 9am-3pm \n  \nTo schedule an appointment\, call Bath Community Hospital from 7am-5:30pm\, Mon-Fri. at 866-839-7100\, of call Ashley Hutchinson at 540-468-1975.
URL:https://visitbathva.com/event/medicare-open-enrollment/2026-07-13/
LOCATION:Bath Community Hospital\, 106 Park Drive\, Hot Springs\, VA\, 24445
CATEGORIES:Community
END:VEVENT
BEGIN:VEVENT
DTSTART;TZID=America/New_York:20260715T140000
DTEND;TZID=America/New_York:20260715T160000
DTSTAMP:20260421T044905
CREATED:20251031T183152Z
LAST-MODIFIED:20251031T183152Z
UID:10000202-1784124000-1784131200@visitbathva.com
SUMMARY:Medicare Open Enrollment
DESCRIPTION:Let’s get you ready! VPAS Medicare Counselors will help you evaluate the benefits you need\, understand out of pocket cots\, and identify the best pharmacies and medical providers for your plan. Open enrollment ends December 7th. \n  \nAppointments available: \nMondays\, 9am-3pm \nWednesdays\, 2pm-4pm \nThird Tuesdays\, 9am-3pm \n  \nTo schedule an appointment\, call Bath Community Hospital from 7am-5:30pm\, Mon-Fri. at 866-839-7100\, of call Ashley Hutchinson at 540-468-1975.
URL:https://visitbathva.com/event/medicare-open-enrollment-2/2026-07-15/
LOCATION:Bath Community Hospital\, 106 Park Drive\, Hot Springs\, VA\, 24445
CATEGORIES:Community
END:VEVENT
BEGIN:VEVENT
DTSTART;TZID=America/New_York:20260720T090000
DTEND;TZID=America/New_York:20260720T150000
DTSTAMP:20260421T044905
CREATED:20251031T183039Z
LAST-MODIFIED:20251031T183039Z
UID:10000145-1784538000-1784559600@visitbathva.com
SUMMARY:Medicare Open Enrollment
DESCRIPTION:Let’s get you ready! VPAS Medicare Counselors will help you evaluate the benefits you need\, understand out of pocket cots\, and identify the best pharmacies and medical providers for your plan. Open enrollment ends December 7th. \n  \nAppointments available: \nMondays\, 9am-3pm \nWednesdays\, 2pm-4pm \nThird Tuesdays\, 9am-3pm \n  \nTo schedule an appointment\, call Bath Community Hospital from 7am-5:30pm\, Mon-Fri. at 866-839-7100\, of call Ashley Hutchinson at 540-468-1975.
URL:https://visitbathva.com/event/medicare-open-enrollment/2026-07-20/
LOCATION:Bath Community Hospital\, 106 Park Drive\, Hot Springs\, VA\, 24445
CATEGORIES:Community
END:VEVENT
BEGIN:VEVENT
DTSTART;TZID=America/New_York:20260722T140000
DTEND;TZID=America/New_York:20260722T160000
DTSTAMP:20260421T044905
CREATED:20251031T183152Z
LAST-MODIFIED:20251031T183152Z
UID:10000203-1784728800-1784736000@visitbathva.com
SUMMARY:Medicare Open Enrollment
DESCRIPTION:Let’s get you ready! VPAS Medicare Counselors will help you evaluate the benefits you need\, understand out of pocket cots\, and identify the best pharmacies and medical providers for your plan. Open enrollment ends December 7th. \n  \nAppointments available: \nMondays\, 9am-3pm \nWednesdays\, 2pm-4pm \nThird Tuesdays\, 9am-3pm \n  \nTo schedule an appointment\, call Bath Community Hospital from 7am-5:30pm\, Mon-Fri. at 866-839-7100\, of call Ashley Hutchinson at 540-468-1975.
URL:https://visitbathva.com/event/medicare-open-enrollment-2/2026-07-22/
LOCATION:Bath Community Hospital\, 106 Park Drive\, Hot Springs\, VA\, 24445
CATEGORIES:Community
END:VEVENT
BEGIN:VEVENT
DTSTART;TZID=America/New_York:20260727T090000
DTEND;TZID=America/New_York:20260727T150000
DTSTAMP:20260421T044905
CREATED:20251031T183039Z
LAST-MODIFIED:20251031T183039Z
UID:10000146-1785142800-1785164400@visitbathva.com
SUMMARY:Medicare Open Enrollment
DESCRIPTION:Let’s get you ready! VPAS Medicare Counselors will help you evaluate the benefits you need\, understand out of pocket cots\, and identify the best pharmacies and medical providers for your plan. Open enrollment ends December 7th. \n  \nAppointments available: \nMondays\, 9am-3pm \nWednesdays\, 2pm-4pm \nThird Tuesdays\, 9am-3pm \n  \nTo schedule an appointment\, call Bath Community Hospital from 7am-5:30pm\, Mon-Fri. at 866-839-7100\, of call Ashley Hutchinson at 540-468-1975.
URL:https://visitbathva.com/event/medicare-open-enrollment/2026-07-27/
LOCATION:Bath Community Hospital\, 106 Park Drive\, Hot Springs\, VA\, 24445
CATEGORIES:Community
END:VEVENT
BEGIN:VEVENT
DTSTART;TZID=America/New_York:20260729T140000
DTEND;TZID=America/New_York:20260729T160000
DTSTAMP:20260421T044905
CREATED:20251031T183152Z
LAST-MODIFIED:20251031T183152Z
UID:10000204-1785333600-1785340800@visitbathva.com
SUMMARY:Medicare Open Enrollment
DESCRIPTION:Let’s get you ready! VPAS Medicare Counselors will help you evaluate the benefits you need\, understand out of pocket cots\, and identify the best pharmacies and medical providers for your plan. Open enrollment ends December 7th. \n  \nAppointments available: \nMondays\, 9am-3pm \nWednesdays\, 2pm-4pm \nThird Tuesdays\, 9am-3pm \n  \nTo schedule an appointment\, call Bath Community Hospital from 7am-5:30pm\, Mon-Fri. at 866-839-7100\, of call Ashley Hutchinson at 540-468-1975.
URL:https://visitbathva.com/event/medicare-open-enrollment-2/2026-07-29/
LOCATION:Bath Community Hospital\, 106 Park Drive\, Hot Springs\, VA\, 24445
CATEGORIES:Community
END:VEVENT
BEGIN:VEVENT
DTSTART;TZID=America/New_York:20260803T090000
DTEND;TZID=America/New_York:20260803T150000
DTSTAMP:20260421T044905
CREATED:20251031T183039Z
LAST-MODIFIED:20251031T183039Z
UID:10000147-1785747600-1785769200@visitbathva.com
SUMMARY:Medicare Open Enrollment
DESCRIPTION:Let’s get you ready! VPAS Medicare Counselors will help you evaluate the benefits you need\, understand out of pocket cots\, and identify the best pharmacies and medical providers for your plan. Open enrollment ends December 7th. \n  \nAppointments available: \nMondays\, 9am-3pm \nWednesdays\, 2pm-4pm \nThird Tuesdays\, 9am-3pm \n  \nTo schedule an appointment\, call Bath Community Hospital from 7am-5:30pm\, Mon-Fri. at 866-839-7100\, of call Ashley Hutchinson at 540-468-1975.
URL:https://visitbathva.com/event/medicare-open-enrollment/2026-08-03/
LOCATION:Bath Community Hospital\, 106 Park Drive\, Hot Springs\, VA\, 24445
CATEGORIES:Community
END:VEVENT
END:VCALENDAR