BEGIN:VCALENDAR
VERSION:2.0
PRODID:-//Visit Bath County - ECPv6.15.20//NONSGML v1.0//EN
CALSCALE:GREGORIAN
METHOD:PUBLISH
X-WR-CALNAME:Visit Bath County
X-ORIGINAL-URL:https://visitbathva.com
X-WR-CALDESC:Events for Visit Bath County
REFRESH-INTERVAL;VALUE=DURATION:PT1H
X-Robots-Tag:noindex
X-PUBLISHED-TTL:PT1H
BEGIN:VTIMEZONE
TZID:America/New_York
BEGIN:DAYLIGHT
TZOFFSETFROM:-0500
TZOFFSETTO:-0400
TZNAME:EDT
DTSTART:20250309T070000
END:DAYLIGHT
BEGIN:STANDARD
TZOFFSETFROM:-0400
TZOFFSETTO:-0500
TZNAME:EST
DTSTART:20251102T060000
END:STANDARD
BEGIN:DAYLIGHT
TZOFFSETFROM:-0500
TZOFFSETTO:-0400
TZNAME:EDT
DTSTART:20260308T070000
END:DAYLIGHT
BEGIN:STANDARD
TZOFFSETFROM:-0400
TZOFFSETTO:-0500
TZNAME:EST
DTSTART:20261101T060000
END:STANDARD
BEGIN:DAYLIGHT
TZOFFSETFROM:-0500
TZOFFSETTO:-0400
TZNAME:EDT
DTSTART:20270314T070000
END:DAYLIGHT
BEGIN:STANDARD
TZOFFSETFROM:-0400
TZOFFSETTO:-0500
TZNAME:EST
DTSTART:20271107T060000
END:STANDARD
END:VTIMEZONE
BEGIN:VEVENT
DTSTART;TZID=America/New_York:20260420T090000
DTEND;TZID=America/New_York:20260420T150000
DTSTAMP:20260421T061420
CREATED:20251031T183039Z
LAST-MODIFIED:20251031T183039Z
UID:10000132-1776675600-1776697200@visitbathva.com
SUMMARY:Medicare Open Enrollment
DESCRIPTION:Let’s get you ready! VPAS Medicare Counselors will help you evaluate the benefits you need\, understand out of pocket cots\, and identify the best pharmacies and medical providers for your plan. Open enrollment ends December 7th. \n  \nAppointments available: \nMondays\, 9am-3pm \nWednesdays\, 2pm-4pm \nThird Tuesdays\, 9am-3pm \n  \nTo schedule an appointment\, call Bath Community Hospital from 7am-5:30pm\, Mon-Fri. at 866-839-7100\, of call Ashley Hutchinson at 540-468-1975.
URL:https://visitbathva.com/event/medicare-open-enrollment/2026-04-20/
LOCATION:Bath Community Hospital\, 106 Park Drive\, Hot Springs\, VA\, 24445
CATEGORIES:Community
END:VEVENT
BEGIN:VEVENT
DTSTART;TZID=America/New_York:20260415T140000
DTEND;TZID=America/New_York:20260415T160000
DTSTAMP:20260421T061420
CREATED:20251031T183152Z
LAST-MODIFIED:20251031T183152Z
UID:10000189-1776261600-1776268800@visitbathva.com
SUMMARY:Medicare Open Enrollment
DESCRIPTION:Let’s get you ready! VPAS Medicare Counselors will help you evaluate the benefits you need\, understand out of pocket cots\, and identify the best pharmacies and medical providers for your plan. Open enrollment ends December 7th. \n  \nAppointments available: \nMondays\, 9am-3pm \nWednesdays\, 2pm-4pm \nThird Tuesdays\, 9am-3pm \n  \nTo schedule an appointment\, call Bath Community Hospital from 7am-5:30pm\, Mon-Fri. at 866-839-7100\, of call Ashley Hutchinson at 540-468-1975.
URL:https://visitbathva.com/event/medicare-open-enrollment-2/2026-04-15/
LOCATION:Bath Community Hospital\, 106 Park Drive\, Hot Springs\, VA\, 24445
CATEGORIES:Community
END:VEVENT
BEGIN:VEVENT
DTSTART;TZID=America/New_York:20260413T090000
DTEND;TZID=America/New_York:20260413T150000
DTSTAMP:20260421T061420
CREATED:20251031T183039Z
LAST-MODIFIED:20251031T183039Z
UID:10000131-1776070800-1776092400@visitbathva.com
SUMMARY:Medicare Open Enrollment
DESCRIPTION:Let’s get you ready! VPAS Medicare Counselors will help you evaluate the benefits you need\, understand out of pocket cots\, and identify the best pharmacies and medical providers for your plan. Open enrollment ends December 7th. \n  \nAppointments available: \nMondays\, 9am-3pm \nWednesdays\, 2pm-4pm \nThird Tuesdays\, 9am-3pm \n  \nTo schedule an appointment\, call Bath Community Hospital from 7am-5:30pm\, Mon-Fri. at 866-839-7100\, of call Ashley Hutchinson at 540-468-1975.
URL:https://visitbathva.com/event/medicare-open-enrollment/2026-04-13/
LOCATION:Bath Community Hospital\, 106 Park Drive\, Hot Springs\, VA\, 24445
CATEGORIES:Community
END:VEVENT
BEGIN:VEVENT
DTSTART;TZID=America/New_York:20260408T140000
DTEND;TZID=America/New_York:20260408T160000
DTSTAMP:20260421T061420
CREATED:20251031T183152Z
LAST-MODIFIED:20251031T183152Z
UID:10000188-1775656800-1775664000@visitbathva.com
SUMMARY:Medicare Open Enrollment
DESCRIPTION:Let’s get you ready! VPAS Medicare Counselors will help you evaluate the benefits you need\, understand out of pocket cots\, and identify the best pharmacies and medical providers for your plan. Open enrollment ends December 7th. \n  \nAppointments available: \nMondays\, 9am-3pm \nWednesdays\, 2pm-4pm \nThird Tuesdays\, 9am-3pm \n  \nTo schedule an appointment\, call Bath Community Hospital from 7am-5:30pm\, Mon-Fri. at 866-839-7100\, of call Ashley Hutchinson at 540-468-1975.
URL:https://visitbathva.com/event/medicare-open-enrollment-2/2026-04-08/
LOCATION:Bath Community Hospital\, 106 Park Drive\, Hot Springs\, VA\, 24445
CATEGORIES:Community
END:VEVENT
BEGIN:VEVENT
DTSTART;TZID=America/New_York:20260406T090000
DTEND;TZID=America/New_York:20260406T150000
DTSTAMP:20260421T061420
CREATED:20251031T183039Z
LAST-MODIFIED:20251031T183039Z
UID:10000130-1775466000-1775487600@visitbathva.com
SUMMARY:Medicare Open Enrollment
DESCRIPTION:Let’s get you ready! VPAS Medicare Counselors will help you evaluate the benefits you need\, understand out of pocket cots\, and identify the best pharmacies and medical providers for your plan. Open enrollment ends December 7th. \n  \nAppointments available: \nMondays\, 9am-3pm \nWednesdays\, 2pm-4pm \nThird Tuesdays\, 9am-3pm \n  \nTo schedule an appointment\, call Bath Community Hospital from 7am-5:30pm\, Mon-Fri. at 866-839-7100\, of call Ashley Hutchinson at 540-468-1975.
URL:https://visitbathva.com/event/medicare-open-enrollment/2026-04-06/
LOCATION:Bath Community Hospital\, 106 Park Drive\, Hot Springs\, VA\, 24445
CATEGORIES:Community
END:VEVENT
BEGIN:VEVENT
DTSTART;TZID=America/New_York:20260401T140000
DTEND;TZID=America/New_York:20260401T160000
DTSTAMP:20260421T061420
CREATED:20251031T183152Z
LAST-MODIFIED:20251031T183152Z
UID:10000187-1775052000-1775059200@visitbathva.com
SUMMARY:Medicare Open Enrollment
DESCRIPTION:Let’s get you ready! VPAS Medicare Counselors will help you evaluate the benefits you need\, understand out of pocket cots\, and identify the best pharmacies and medical providers for your plan. Open enrollment ends December 7th. \n  \nAppointments available: \nMondays\, 9am-3pm \nWednesdays\, 2pm-4pm \nThird Tuesdays\, 9am-3pm \n  \nTo schedule an appointment\, call Bath Community Hospital from 7am-5:30pm\, Mon-Fri. at 866-839-7100\, of call Ashley Hutchinson at 540-468-1975.
URL:https://visitbathva.com/event/medicare-open-enrollment-2/2026-04-01/
LOCATION:Bath Community Hospital\, 106 Park Drive\, Hot Springs\, VA\, 24445
CATEGORIES:Community
END:VEVENT
BEGIN:VEVENT
DTSTART;TZID=America/New_York:20260330T090000
DTEND;TZID=America/New_York:20260330T150000
DTSTAMP:20260421T061420
CREATED:20251031T183039Z
LAST-MODIFIED:20251031T183039Z
UID:10000129-1774861200-1774882800@visitbathva.com
SUMMARY:Medicare Open Enrollment
DESCRIPTION:Let’s get you ready! VPAS Medicare Counselors will help you evaluate the benefits you need\, understand out of pocket cots\, and identify the best pharmacies and medical providers for your plan. Open enrollment ends December 7th. \n  \nAppointments available: \nMondays\, 9am-3pm \nWednesdays\, 2pm-4pm \nThird Tuesdays\, 9am-3pm \n  \nTo schedule an appointment\, call Bath Community Hospital from 7am-5:30pm\, Mon-Fri. at 866-839-7100\, of call Ashley Hutchinson at 540-468-1975.
URL:https://visitbathva.com/event/medicare-open-enrollment/2026-03-30/
LOCATION:Bath Community Hospital\, 106 Park Drive\, Hot Springs\, VA\, 24445
CATEGORIES:Community
END:VEVENT
BEGIN:VEVENT
DTSTART;TZID=America/New_York:20260325T140000
DTEND;TZID=America/New_York:20260325T160000
DTSTAMP:20260421T061420
CREATED:20251031T183152Z
LAST-MODIFIED:20251031T183152Z
UID:10000186-1774447200-1774454400@visitbathva.com
SUMMARY:Medicare Open Enrollment
DESCRIPTION:Let’s get you ready! VPAS Medicare Counselors will help you evaluate the benefits you need\, understand out of pocket cots\, and identify the best pharmacies and medical providers for your plan. Open enrollment ends December 7th. \n  \nAppointments available: \nMondays\, 9am-3pm \nWednesdays\, 2pm-4pm \nThird Tuesdays\, 9am-3pm \n  \nTo schedule an appointment\, call Bath Community Hospital from 7am-5:30pm\, Mon-Fri. at 866-839-7100\, of call Ashley Hutchinson at 540-468-1975.
URL:https://visitbathva.com/event/medicare-open-enrollment-2/2026-03-25/
LOCATION:Bath Community Hospital\, 106 Park Drive\, Hot Springs\, VA\, 24445
CATEGORIES:Community
END:VEVENT
BEGIN:VEVENT
DTSTART;TZID=America/New_York:20260323T090000
DTEND;TZID=America/New_York:20260323T150000
DTSTAMP:20260421T061420
CREATED:20251031T183039Z
LAST-MODIFIED:20251031T183039Z
UID:10000128-1774256400-1774278000@visitbathva.com
SUMMARY:Medicare Open Enrollment
DESCRIPTION:Let’s get you ready! VPAS Medicare Counselors will help you evaluate the benefits you need\, understand out of pocket cots\, and identify the best pharmacies and medical providers for your plan. Open enrollment ends December 7th. \n  \nAppointments available: \nMondays\, 9am-3pm \nWednesdays\, 2pm-4pm \nThird Tuesdays\, 9am-3pm \n  \nTo schedule an appointment\, call Bath Community Hospital from 7am-5:30pm\, Mon-Fri. at 866-839-7100\, of call Ashley Hutchinson at 540-468-1975.
URL:https://visitbathva.com/event/medicare-open-enrollment/2026-03-23/
LOCATION:Bath Community Hospital\, 106 Park Drive\, Hot Springs\, VA\, 24445
CATEGORIES:Community
END:VEVENT
BEGIN:VEVENT
DTSTART;TZID=America/New_York:20260318T140000
DTEND;TZID=America/New_York:20260318T160000
DTSTAMP:20260421T061420
CREATED:20251031T183152Z
LAST-MODIFIED:20251031T183152Z
UID:10000185-1773842400-1773849600@visitbathva.com
SUMMARY:Medicare Open Enrollment
DESCRIPTION:Let’s get you ready! VPAS Medicare Counselors will help you evaluate the benefits you need\, understand out of pocket cots\, and identify the best pharmacies and medical providers for your plan. Open enrollment ends December 7th. \n  \nAppointments available: \nMondays\, 9am-3pm \nWednesdays\, 2pm-4pm \nThird Tuesdays\, 9am-3pm \n  \nTo schedule an appointment\, call Bath Community Hospital from 7am-5:30pm\, Mon-Fri. at 866-839-7100\, of call Ashley Hutchinson at 540-468-1975.
URL:https://visitbathva.com/event/medicare-open-enrollment-2/2026-03-18/
LOCATION:Bath Community Hospital\, 106 Park Drive\, Hot Springs\, VA\, 24445
CATEGORIES:Community
END:VEVENT
BEGIN:VEVENT
DTSTART;TZID=America/New_York:20260316T090000
DTEND;TZID=America/New_York:20260316T150000
DTSTAMP:20260421T061420
CREATED:20251031T183039Z
LAST-MODIFIED:20251031T183039Z
UID:10000127-1773651600-1773673200@visitbathva.com
SUMMARY:Medicare Open Enrollment
DESCRIPTION:Let’s get you ready! VPAS Medicare Counselors will help you evaluate the benefits you need\, understand out of pocket cots\, and identify the best pharmacies and medical providers for your plan. Open enrollment ends December 7th. \n  \nAppointments available: \nMondays\, 9am-3pm \nWednesdays\, 2pm-4pm \nThird Tuesdays\, 9am-3pm \n  \nTo schedule an appointment\, call Bath Community Hospital from 7am-5:30pm\, Mon-Fri. at 866-839-7100\, of call Ashley Hutchinson at 540-468-1975.
URL:https://visitbathva.com/event/medicare-open-enrollment/2026-03-16/
LOCATION:Bath Community Hospital\, 106 Park Drive\, Hot Springs\, VA\, 24445
CATEGORIES:Community
END:VEVENT
BEGIN:VEVENT
DTSTART;TZID=America/New_York:20260311T140000
DTEND;TZID=America/New_York:20260311T160000
DTSTAMP:20260421T061420
CREATED:20251031T183152Z
LAST-MODIFIED:20251031T183152Z
UID:10000184-1773237600-1773244800@visitbathva.com
SUMMARY:Medicare Open Enrollment
DESCRIPTION:Let’s get you ready! VPAS Medicare Counselors will help you evaluate the benefits you need\, understand out of pocket cots\, and identify the best pharmacies and medical providers for your plan. Open enrollment ends December 7th. \n  \nAppointments available: \nMondays\, 9am-3pm \nWednesdays\, 2pm-4pm \nThird Tuesdays\, 9am-3pm \n  \nTo schedule an appointment\, call Bath Community Hospital from 7am-5:30pm\, Mon-Fri. at 866-839-7100\, of call Ashley Hutchinson at 540-468-1975.
URL:https://visitbathva.com/event/medicare-open-enrollment-2/2026-03-11/
LOCATION:Bath Community Hospital\, 106 Park Drive\, Hot Springs\, VA\, 24445
CATEGORIES:Community
END:VEVENT
BEGIN:VEVENT
DTSTART;TZID=America/New_York:20260309T090000
DTEND;TZID=America/New_York:20260309T150000
DTSTAMP:20260421T061420
CREATED:20251031T183039Z
LAST-MODIFIED:20251031T183039Z
UID:10000126-1773046800-1773068400@visitbathva.com
SUMMARY:Medicare Open Enrollment
DESCRIPTION:Let’s get you ready! VPAS Medicare Counselors will help you evaluate the benefits you need\, understand out of pocket cots\, and identify the best pharmacies and medical providers for your plan. Open enrollment ends December 7th. \n  \nAppointments available: \nMondays\, 9am-3pm \nWednesdays\, 2pm-4pm \nThird Tuesdays\, 9am-3pm \n  \nTo schedule an appointment\, call Bath Community Hospital from 7am-5:30pm\, Mon-Fri. at 866-839-7100\, of call Ashley Hutchinson at 540-468-1975.
URL:https://visitbathva.com/event/medicare-open-enrollment/2026-03-09/
LOCATION:Bath Community Hospital\, 106 Park Drive\, Hot Springs\, VA\, 24445
CATEGORIES:Community
END:VEVENT
BEGIN:VEVENT
DTSTART;TZID=America/New_York:20260304T140000
DTEND;TZID=America/New_York:20260304T160000
DTSTAMP:20260421T061420
CREATED:20251031T183152Z
LAST-MODIFIED:20251031T183152Z
UID:10000183-1772632800-1772640000@visitbathva.com
SUMMARY:Medicare Open Enrollment
DESCRIPTION:Let’s get you ready! VPAS Medicare Counselors will help you evaluate the benefits you need\, understand out of pocket cots\, and identify the best pharmacies and medical providers for your plan. Open enrollment ends December 7th. \n  \nAppointments available: \nMondays\, 9am-3pm \nWednesdays\, 2pm-4pm \nThird Tuesdays\, 9am-3pm \n  \nTo schedule an appointment\, call Bath Community Hospital from 7am-5:30pm\, Mon-Fri. at 866-839-7100\, of call Ashley Hutchinson at 540-468-1975.
URL:https://visitbathva.com/event/medicare-open-enrollment-2/2026-03-04/
LOCATION:Bath Community Hospital\, 106 Park Drive\, Hot Springs\, VA\, 24445
CATEGORIES:Community
END:VEVENT
BEGIN:VEVENT
DTSTART;TZID=America/New_York:20260302T090000
DTEND;TZID=America/New_York:20260302T150000
DTSTAMP:20260421T061420
CREATED:20251031T183039Z
LAST-MODIFIED:20251031T183039Z
UID:10000125-1772442000-1772463600@visitbathva.com
SUMMARY:Medicare Open Enrollment
DESCRIPTION:Let’s get you ready! VPAS Medicare Counselors will help you evaluate the benefits you need\, understand out of pocket cots\, and identify the best pharmacies and medical providers for your plan. Open enrollment ends December 7th. \n  \nAppointments available: \nMondays\, 9am-3pm \nWednesdays\, 2pm-4pm \nThird Tuesdays\, 9am-3pm \n  \nTo schedule an appointment\, call Bath Community Hospital from 7am-5:30pm\, Mon-Fri. at 866-839-7100\, of call Ashley Hutchinson at 540-468-1975.
URL:https://visitbathva.com/event/medicare-open-enrollment/2026-03-02/
LOCATION:Bath Community Hospital\, 106 Park Drive\, Hot Springs\, VA\, 24445
CATEGORIES:Community
END:VEVENT
BEGIN:VEVENT
DTSTART;TZID=America/New_York:20260225T140000
DTEND;TZID=America/New_York:20260225T160000
DTSTAMP:20260421T061420
CREATED:20251031T183152Z
LAST-MODIFIED:20251031T183152Z
UID:10000182-1772028000-1772035200@visitbathva.com
SUMMARY:Medicare Open Enrollment
DESCRIPTION:Let’s get you ready! VPAS Medicare Counselors will help you evaluate the benefits you need\, understand out of pocket cots\, and identify the best pharmacies and medical providers for your plan. Open enrollment ends December 7th. \n  \nAppointments available: \nMondays\, 9am-3pm \nWednesdays\, 2pm-4pm \nThird Tuesdays\, 9am-3pm \n  \nTo schedule an appointment\, call Bath Community Hospital from 7am-5:30pm\, Mon-Fri. at 866-839-7100\, of call Ashley Hutchinson at 540-468-1975.
URL:https://visitbathva.com/event/medicare-open-enrollment-2/2026-02-25/
LOCATION:Bath Community Hospital\, 106 Park Drive\, Hot Springs\, VA\, 24445
CATEGORIES:Community
END:VEVENT
BEGIN:VEVENT
DTSTART;TZID=America/New_York:20260223T090000
DTEND;TZID=America/New_York:20260223T150000
DTSTAMP:20260421T061420
CREATED:20251031T183039Z
LAST-MODIFIED:20251031T183039Z
UID:10000124-1771837200-1771858800@visitbathva.com
SUMMARY:Medicare Open Enrollment
DESCRIPTION:Let’s get you ready! VPAS Medicare Counselors will help you evaluate the benefits you need\, understand out of pocket cots\, and identify the best pharmacies and medical providers for your plan. Open enrollment ends December 7th. \n  \nAppointments available: \nMondays\, 9am-3pm \nWednesdays\, 2pm-4pm \nThird Tuesdays\, 9am-3pm \n  \nTo schedule an appointment\, call Bath Community Hospital from 7am-5:30pm\, Mon-Fri. at 866-839-7100\, of call Ashley Hutchinson at 540-468-1975.
URL:https://visitbathva.com/event/medicare-open-enrollment/2026-02-23/
LOCATION:Bath Community Hospital\, 106 Park Drive\, Hot Springs\, VA\, 24445
CATEGORIES:Community
END:VEVENT
BEGIN:VEVENT
DTSTART;TZID=America/New_York:20260218T140000
DTEND;TZID=America/New_York:20260218T160000
DTSTAMP:20260421T061420
CREATED:20251031T183152Z
LAST-MODIFIED:20251031T183152Z
UID:10000181-1771423200-1771430400@visitbathva.com
SUMMARY:Medicare Open Enrollment
DESCRIPTION:Let’s get you ready! VPAS Medicare Counselors will help you evaluate the benefits you need\, understand out of pocket cots\, and identify the best pharmacies and medical providers for your plan. Open enrollment ends December 7th. \n  \nAppointments available: \nMondays\, 9am-3pm \nWednesdays\, 2pm-4pm \nThird Tuesdays\, 9am-3pm \n  \nTo schedule an appointment\, call Bath Community Hospital from 7am-5:30pm\, Mon-Fri. at 866-839-7100\, of call Ashley Hutchinson at 540-468-1975.
URL:https://visitbathva.com/event/medicare-open-enrollment-2/2026-02-18/
LOCATION:Bath Community Hospital\, 106 Park Drive\, Hot Springs\, VA\, 24445
CATEGORIES:Community
END:VEVENT
BEGIN:VEVENT
DTSTART;TZID=America/New_York:20260216T090000
DTEND;TZID=America/New_York:20260216T150000
DTSTAMP:20260421T061420
CREATED:20251031T183039Z
LAST-MODIFIED:20251031T183039Z
UID:10000123-1771232400-1771254000@visitbathva.com
SUMMARY:Medicare Open Enrollment
DESCRIPTION:Let’s get you ready! VPAS Medicare Counselors will help you evaluate the benefits you need\, understand out of pocket cots\, and identify the best pharmacies and medical providers for your plan. Open enrollment ends December 7th. \n  \nAppointments available: \nMondays\, 9am-3pm \nWednesdays\, 2pm-4pm \nThird Tuesdays\, 9am-3pm \n  \nTo schedule an appointment\, call Bath Community Hospital from 7am-5:30pm\, Mon-Fri. at 866-839-7100\, of call Ashley Hutchinson at 540-468-1975.
URL:https://visitbathva.com/event/medicare-open-enrollment/2026-02-16/
LOCATION:Bath Community Hospital\, 106 Park Drive\, Hot Springs\, VA\, 24445
CATEGORIES:Community
END:VEVENT
BEGIN:VEVENT
DTSTART;TZID=America/New_York:20260211T140000
DTEND;TZID=America/New_York:20260211T160000
DTSTAMP:20260421T061420
CREATED:20251031T183152Z
LAST-MODIFIED:20251031T183152Z
UID:10000180-1770818400-1770825600@visitbathva.com
SUMMARY:Medicare Open Enrollment
DESCRIPTION:Let’s get you ready! VPAS Medicare Counselors will help you evaluate the benefits you need\, understand out of pocket cots\, and identify the best pharmacies and medical providers for your plan. Open enrollment ends December 7th. \n  \nAppointments available: \nMondays\, 9am-3pm \nWednesdays\, 2pm-4pm \nThird Tuesdays\, 9am-3pm \n  \nTo schedule an appointment\, call Bath Community Hospital from 7am-5:30pm\, Mon-Fri. at 866-839-7100\, of call Ashley Hutchinson at 540-468-1975.
URL:https://visitbathva.com/event/medicare-open-enrollment-2/2026-02-11/
LOCATION:Bath Community Hospital\, 106 Park Drive\, Hot Springs\, VA\, 24445
CATEGORIES:Community
END:VEVENT
BEGIN:VEVENT
DTSTART;TZID=America/New_York:20260209T090000
DTEND;TZID=America/New_York:20260209T150000
DTSTAMP:20260421T061420
CREATED:20251031T183039Z
LAST-MODIFIED:20251031T183039Z
UID:10000122-1770627600-1770649200@visitbathva.com
SUMMARY:Medicare Open Enrollment
DESCRIPTION:Let’s get you ready! VPAS Medicare Counselors will help you evaluate the benefits you need\, understand out of pocket cots\, and identify the best pharmacies and medical providers for your plan. Open enrollment ends December 7th. \n  \nAppointments available: \nMondays\, 9am-3pm \nWednesdays\, 2pm-4pm \nThird Tuesdays\, 9am-3pm \n  \nTo schedule an appointment\, call Bath Community Hospital from 7am-5:30pm\, Mon-Fri. at 866-839-7100\, of call Ashley Hutchinson at 540-468-1975.
URL:https://visitbathva.com/event/medicare-open-enrollment/2026-02-09/
LOCATION:Bath Community Hospital\, 106 Park Drive\, Hot Springs\, VA\, 24445
CATEGORIES:Community
END:VEVENT
BEGIN:VEVENT
DTSTART;TZID=America/New_York:20260204T140000
DTEND;TZID=America/New_York:20260204T160000
DTSTAMP:20260421T061420
CREATED:20251031T183152Z
LAST-MODIFIED:20251031T183152Z
UID:10000179-1770213600-1770220800@visitbathva.com
SUMMARY:Medicare Open Enrollment
DESCRIPTION:Let’s get you ready! VPAS Medicare Counselors will help you evaluate the benefits you need\, understand out of pocket cots\, and identify the best pharmacies and medical providers for your plan. Open enrollment ends December 7th. \n  \nAppointments available: \nMondays\, 9am-3pm \nWednesdays\, 2pm-4pm \nThird Tuesdays\, 9am-3pm \n  \nTo schedule an appointment\, call Bath Community Hospital from 7am-5:30pm\, Mon-Fri. at 866-839-7100\, of call Ashley Hutchinson at 540-468-1975.
URL:https://visitbathva.com/event/medicare-open-enrollment-2/2026-02-04/
LOCATION:Bath Community Hospital\, 106 Park Drive\, Hot Springs\, VA\, 24445
CATEGORIES:Community
END:VEVENT
BEGIN:VEVENT
DTSTART;TZID=America/New_York:20260202T090000
DTEND;TZID=America/New_York:20260202T150000
DTSTAMP:20260421T061420
CREATED:20251031T183039Z
LAST-MODIFIED:20251031T183039Z
UID:10000121-1770022800-1770044400@visitbathva.com
SUMMARY:Medicare Open Enrollment
DESCRIPTION:Let’s get you ready! VPAS Medicare Counselors will help you evaluate the benefits you need\, understand out of pocket cots\, and identify the best pharmacies and medical providers for your plan. Open enrollment ends December 7th. \n  \nAppointments available: \nMondays\, 9am-3pm \nWednesdays\, 2pm-4pm \nThird Tuesdays\, 9am-3pm \n  \nTo schedule an appointment\, call Bath Community Hospital from 7am-5:30pm\, Mon-Fri. at 866-839-7100\, of call Ashley Hutchinson at 540-468-1975.
URL:https://visitbathva.com/event/medicare-open-enrollment/2026-02-02/
LOCATION:Bath Community Hospital\, 106 Park Drive\, Hot Springs\, VA\, 24445
CATEGORIES:Community
END:VEVENT
BEGIN:VEVENT
DTSTART;TZID=America/New_York:20260128T140000
DTEND;TZID=America/New_York:20260128T160000
DTSTAMP:20260421T061420
CREATED:20251031T183152Z
LAST-MODIFIED:20251031T183152Z
UID:10000178-1769608800-1769616000@visitbathva.com
SUMMARY:Medicare Open Enrollment
DESCRIPTION:Let’s get you ready! VPAS Medicare Counselors will help you evaluate the benefits you need\, understand out of pocket cots\, and identify the best pharmacies and medical providers for your plan. Open enrollment ends December 7th. \n  \nAppointments available: \nMondays\, 9am-3pm \nWednesdays\, 2pm-4pm \nThird Tuesdays\, 9am-3pm \n  \nTo schedule an appointment\, call Bath Community Hospital from 7am-5:30pm\, Mon-Fri. at 866-839-7100\, of call Ashley Hutchinson at 540-468-1975.
URL:https://visitbathva.com/event/medicare-open-enrollment-2/2026-01-28/
LOCATION:Bath Community Hospital\, 106 Park Drive\, Hot Springs\, VA\, 24445
CATEGORIES:Community
END:VEVENT
BEGIN:VEVENT
DTSTART;TZID=America/New_York:20260126T090000
DTEND;TZID=America/New_York:20260126T150000
DTSTAMP:20260421T061420
CREATED:20251031T183039Z
LAST-MODIFIED:20251031T183039Z
UID:10000120-1769418000-1769439600@visitbathva.com
SUMMARY:Medicare Open Enrollment
DESCRIPTION:Let’s get you ready! VPAS Medicare Counselors will help you evaluate the benefits you need\, understand out of pocket cots\, and identify the best pharmacies and medical providers for your plan. Open enrollment ends December 7th. \n  \nAppointments available: \nMondays\, 9am-3pm \nWednesdays\, 2pm-4pm \nThird Tuesdays\, 9am-3pm \n  \nTo schedule an appointment\, call Bath Community Hospital from 7am-5:30pm\, Mon-Fri. at 866-839-7100\, of call Ashley Hutchinson at 540-468-1975.
URL:https://visitbathva.com/event/medicare-open-enrollment/2026-01-26/
LOCATION:Bath Community Hospital\, 106 Park Drive\, Hot Springs\, VA\, 24445
CATEGORIES:Community
END:VEVENT
BEGIN:VEVENT
DTSTART;TZID=America/New_York:20260121T140000
DTEND;TZID=America/New_York:20260121T160000
DTSTAMP:20260421T061420
CREATED:20251031T183152Z
LAST-MODIFIED:20251031T183152Z
UID:10000177-1769004000-1769011200@visitbathva.com
SUMMARY:Medicare Open Enrollment
DESCRIPTION:Let’s get you ready! VPAS Medicare Counselors will help you evaluate the benefits you need\, understand out of pocket cots\, and identify the best pharmacies and medical providers for your plan. Open enrollment ends December 7th. \n  \nAppointments available: \nMondays\, 9am-3pm \nWednesdays\, 2pm-4pm \nThird Tuesdays\, 9am-3pm \n  \nTo schedule an appointment\, call Bath Community Hospital from 7am-5:30pm\, Mon-Fri. at 866-839-7100\, of call Ashley Hutchinson at 540-468-1975.
URL:https://visitbathva.com/event/medicare-open-enrollment-2/2026-01-21/
LOCATION:Bath Community Hospital\, 106 Park Drive\, Hot Springs\, VA\, 24445
CATEGORIES:Community
END:VEVENT
BEGIN:VEVENT
DTSTART;TZID=America/New_York:20260119T090000
DTEND;TZID=America/New_York:20260119T150000
DTSTAMP:20260421T061421
CREATED:20251031T183039Z
LAST-MODIFIED:20251031T183039Z
UID:10000119-1768813200-1768834800@visitbathva.com
SUMMARY:Medicare Open Enrollment
DESCRIPTION:Let’s get you ready! VPAS Medicare Counselors will help you evaluate the benefits you need\, understand out of pocket cots\, and identify the best pharmacies and medical providers for your plan. Open enrollment ends December 7th. \n  \nAppointments available: \nMondays\, 9am-3pm \nWednesdays\, 2pm-4pm \nThird Tuesdays\, 9am-3pm \n  \nTo schedule an appointment\, call Bath Community Hospital from 7am-5:30pm\, Mon-Fri. at 866-839-7100\, of call Ashley Hutchinson at 540-468-1975.
URL:https://visitbathva.com/event/medicare-open-enrollment/2026-01-19/
LOCATION:Bath Community Hospital\, 106 Park Drive\, Hot Springs\, VA\, 24445
CATEGORIES:Community
END:VEVENT
BEGIN:VEVENT
DTSTART;TZID=America/New_York:20260114T140000
DTEND;TZID=America/New_York:20260114T160000
DTSTAMP:20260421T061421
CREATED:20251031T183152Z
LAST-MODIFIED:20251031T183152Z
UID:10000176-1768399200-1768406400@visitbathva.com
SUMMARY:Medicare Open Enrollment
DESCRIPTION:Let’s get you ready! VPAS Medicare Counselors will help you evaluate the benefits you need\, understand out of pocket cots\, and identify the best pharmacies and medical providers for your plan. Open enrollment ends December 7th. \n  \nAppointments available: \nMondays\, 9am-3pm \nWednesdays\, 2pm-4pm \nThird Tuesdays\, 9am-3pm \n  \nTo schedule an appointment\, call Bath Community Hospital from 7am-5:30pm\, Mon-Fri. at 866-839-7100\, of call Ashley Hutchinson at 540-468-1975.
URL:https://visitbathva.com/event/medicare-open-enrollment-2/2026-01-14/
LOCATION:Bath Community Hospital\, 106 Park Drive\, Hot Springs\, VA\, 24445
CATEGORIES:Community
END:VEVENT
BEGIN:VEVENT
DTSTART;TZID=America/New_York:20260112T090000
DTEND;TZID=America/New_York:20260112T150000
DTSTAMP:20260421T061421
CREATED:20251031T183039Z
LAST-MODIFIED:20251031T183039Z
UID:10000118-1768208400-1768230000@visitbathva.com
SUMMARY:Medicare Open Enrollment
DESCRIPTION:Let’s get you ready! VPAS Medicare Counselors will help you evaluate the benefits you need\, understand out of pocket cots\, and identify the best pharmacies and medical providers for your plan. Open enrollment ends December 7th. \n  \nAppointments available: \nMondays\, 9am-3pm \nWednesdays\, 2pm-4pm \nThird Tuesdays\, 9am-3pm \n  \nTo schedule an appointment\, call Bath Community Hospital from 7am-5:30pm\, Mon-Fri. at 866-839-7100\, of call Ashley Hutchinson at 540-468-1975.
URL:https://visitbathva.com/event/medicare-open-enrollment/2026-01-12/
LOCATION:Bath Community Hospital\, 106 Park Drive\, Hot Springs\, VA\, 24445
CATEGORIES:Community
END:VEVENT
BEGIN:VEVENT
DTSTART;TZID=America/New_York:20260107T140000
DTEND;TZID=America/New_York:20260107T160000
DTSTAMP:20260421T061421
CREATED:20251031T183152Z
LAST-MODIFIED:20251031T183152Z
UID:10000175-1767794400-1767801600@visitbathva.com
SUMMARY:Medicare Open Enrollment
DESCRIPTION:Let’s get you ready! VPAS Medicare Counselors will help you evaluate the benefits you need\, understand out of pocket cots\, and identify the best pharmacies and medical providers for your plan. Open enrollment ends December 7th. \n  \nAppointments available: \nMondays\, 9am-3pm \nWednesdays\, 2pm-4pm \nThird Tuesdays\, 9am-3pm \n  \nTo schedule an appointment\, call Bath Community Hospital from 7am-5:30pm\, Mon-Fri. at 866-839-7100\, of call Ashley Hutchinson at 540-468-1975.
URL:https://visitbathva.com/event/medicare-open-enrollment-2/2026-01-07/
LOCATION:Bath Community Hospital\, 106 Park Drive\, Hot Springs\, VA\, 24445
CATEGORIES:Community
END:VEVENT
END:VCALENDAR