BEGIN:VCALENDAR
VERSION:2.0
PRODID:-//Visit Bath County - ECPv6.15.20//NONSGML v1.0//EN
CALSCALE:GREGORIAN
METHOD:PUBLISH
X-ORIGINAL-URL:https://visitbathva.com
X-WR-CALDESC:Events for Visit Bath County
REFRESH-INTERVAL;VALUE=DURATION:PT1H
X-Robots-Tag:noindex
X-PUBLISHED-TTL:PT1H
BEGIN:VTIMEZONE
TZID:America/New_York
BEGIN:DAYLIGHT
TZOFFSETFROM:-0500
TZOFFSETTO:-0400
TZNAME:EDT
DTSTART:20240310T070000
END:DAYLIGHT
BEGIN:STANDARD
TZOFFSETFROM:-0400
TZOFFSETTO:-0500
TZNAME:EST
DTSTART:20241103T060000
END:STANDARD
BEGIN:DAYLIGHT
TZOFFSETFROM:-0500
TZOFFSETTO:-0400
TZNAME:EDT
DTSTART:20250309T070000
END:DAYLIGHT
BEGIN:STANDARD
TZOFFSETFROM:-0400
TZOFFSETTO:-0500
TZNAME:EST
DTSTART:20251102T060000
END:STANDARD
BEGIN:DAYLIGHT
TZOFFSETFROM:-0500
TZOFFSETTO:-0400
TZNAME:EDT
DTSTART:20260308T070000
END:DAYLIGHT
BEGIN:STANDARD
TZOFFSETFROM:-0400
TZOFFSETTO:-0500
TZNAME:EST
DTSTART:20261101T060000
END:STANDARD
END:VTIMEZONE
BEGIN:VEVENT
DTSTART;TZID=America/New_York:20251127T110000
DTEND;TZID=America/New_York:20251127T170000
DTSTAMP:20260419T111145
CREATED:20251027T202715Z
LAST-MODIFIED:20251027T202715Z
UID:10000028-1764241200-1764262800@visitbathva.com
SUMMARY:The Inn at Warm Springs Thanksgiving Buffet
DESCRIPTION: Join us for our Annual Thanksgiving Brunch Buffet! This Thanksgiving\, gather with loved ones and celebrate at The Inn at Warm Springs. Enjoy a delicious holiday spread without the stress of cooking or cleanup — just relax\, dine\, and enjoy the day! Thursday\, November 27th • 11 AM – 5 PM 12968 Sam Snead Hwy\, Warm Springs\, VA Reservations: 540-839-5351Our buffet includes: Baked Goods: Fresh breads\, muffins & scones Soups & Salads: Creamy mushroom soup\, fall greens\, kale caesar\, Brussels sprouts salad Carving Station: Herb roasted turkey\, grilled salmon\, beef tenderloin\, honey-glazed ham Sides: Mashed potatoes\, mac & cheese\, stuffing\, fall vegetables\, green bean casserole Desserts: Pumpkin\, pecan & apple pie + assorted cookies$45 per adult • $25 children 12 & under (plus tax & gratuity) Space fills quickly — reservations are strongly encouraged!Come share good food\, gratitude\, and great company at The Inn at Warm Springs. We look forward to celebrating with you. 
URL:https://visitbathva.com/event/the-inn-at-warm-springs-thanksgiving-buffet/
LOCATION:The Inn at Warm Springs\, 12968 Sam Snead Hwy\, Warm Springs\, VA\, 24484\, United States
CATEGORIES:Community,Visitor
ATTACH;FMTTYPE=image/jpeg:https://visitbathva.com/wp-content/uploads/2025/10/Inn-at-Warm-Springs-Thanksgiving-Buffet.jpg
ORGANIZER;CN="The Inn at Warm Springs":MAILTO:theinnatwarmsprings@gmail.com
END:VEVENT
END:VCALENDAR