BEGIN:VCALENDAR
VERSION:2.0
PRODID:-//Visit Bath County - ECPv6.15.20//NONSGML v1.0//EN
CALSCALE:GREGORIAN
METHOD:PUBLISH
X-WR-CALNAME:Visit Bath County
X-ORIGINAL-URL:https://visitbathva.com
X-WR-CALDESC:Events for Visit Bath County
REFRESH-INTERVAL;VALUE=DURATION:PT1H
X-Robots-Tag:noindex
X-PUBLISHED-TTL:PT1H
BEGIN:VTIMEZONE
TZID:America/Indiana/Indianapolis
BEGIN:DAYLIGHT
TZOFFSETFROM:-0500
TZOFFSETTO:-0400
TZNAME:EDT
DTSTART:20250309T070000
END:DAYLIGHT
BEGIN:STANDARD
TZOFFSETFROM:-0400
TZOFFSETTO:-0500
TZNAME:EST
DTSTART:20251102T060000
END:STANDARD
BEGIN:DAYLIGHT
TZOFFSETFROM:-0500
TZOFFSETTO:-0400
TZNAME:EDT
DTSTART:20260308T070000
END:DAYLIGHT
BEGIN:STANDARD
TZOFFSETFROM:-0400
TZOFFSETTO:-0500
TZNAME:EST
DTSTART:20261101T060000
END:STANDARD
BEGIN:DAYLIGHT
TZOFFSETFROM:-0500
TZOFFSETTO:-0400
TZNAME:EDT
DTSTART:20270314T070000
END:DAYLIGHT
BEGIN:STANDARD
TZOFFSETFROM:-0400
TZOFFSETTO:-0500
TZNAME:EST
DTSTART:20271107T060000
END:STANDARD
END:VTIMEZONE
BEGIN:VEVENT
DTSTART;TZID=America/Indiana/Indianapolis:20260512T180000
DTEND;TZID=America/Indiana/Indianapolis:20260512T190000
DTSTAMP:20260419T171327
CREATED:20260128T024334Z
LAST-MODIFIED:20260415T084040Z
UID:10001406-1778608800-1778612400@visitbathva.com
SUMMARY:Bath County Board of Supervisors
DESCRIPTION:The Bath County Board of Supervisors will hold their regularly scheduled monthly meeting Tuesday\, May 12th at 6 p.m. in the General District Courtroom of the Bath County High School Auditorium\, 464 Charger Lane\, Hot Springs\, VA 24445.
URL:https://visitbathva.com/event/bath-county-board-of-supervisors-5/
LOCATION:Bath County High School Auditorium\, 399 Charger Ln\, Galax\, VA\, United States
CATEGORIES:Board of Supervisor's Meeting,Community
GEO:36.72475;-80.86896
X-APPLE-STRUCTURED-LOCATION;VALUE=URI;X-ADDRESS=Bath County High School Auditorium 399 Charger Ln Galax VA United States;X-APPLE-RADIUS=500;X-TITLE=399 Charger Ln:geo:-80.86896,36.72475
END:VEVENT
END:VCALENDAR