BEGIN:VCALENDAR
VERSION:2.0
PRODID:-//Visit Bath County - ECPv6.15.20//NONSGML v1.0//EN
CALSCALE:GREGORIAN
METHOD:PUBLISH
X-WR-CALNAME:Visit Bath County
X-ORIGINAL-URL:https://visitbathva.com
X-WR-CALDESC:Events for Visit Bath County
REFRESH-INTERVAL;VALUE=DURATION:PT1H
X-Robots-Tag:noindex
X-PUBLISHED-TTL:PT1H
BEGIN:VTIMEZONE
TZID:America/New_York
BEGIN:DAYLIGHT
TZOFFSETFROM:-0500
TZOFFSETTO:-0400
TZNAME:EDT
DTSTART:20250309T070000
END:DAYLIGHT
BEGIN:STANDARD
TZOFFSETFROM:-0400
TZOFFSETTO:-0500
TZNAME:EST
DTSTART:20251102T060000
END:STANDARD
BEGIN:DAYLIGHT
TZOFFSETFROM:-0500
TZOFFSETTO:-0400
TZNAME:EDT
DTSTART:20260308T070000
END:DAYLIGHT
BEGIN:STANDARD
TZOFFSETFROM:-0400
TZOFFSETTO:-0500
TZNAME:EST
DTSTART:20261101T060000
END:STANDARD
BEGIN:DAYLIGHT
TZOFFSETFROM:-0500
TZOFFSETTO:-0400
TZNAME:EDT
DTSTART:20270314T070000
END:DAYLIGHT
BEGIN:STANDARD
TZOFFSETFROM:-0400
TZOFFSETTO:-0500
TZNAME:EST
DTSTART:20271107T060000
END:STANDARD
END:VTIMEZONE
BEGIN:VEVENT
DTSTART;TZID=America/New_York:20260419T090000
DTEND;TZID=America/New_York:20260419T100000
DTSTAMP:20260419T172306
CREATED:20260203T150014Z
LAST-MODIFIED:20260414T193510Z
UID:10001461-1776589200-1776592800@visitbathva.com
SUMMARY:Yoga
DESCRIPTION:An all-levels class focused on general body wellness. Strengthen and stretch in a breath-based flow. Beginners welcome! \n Wednesday 6-7pm and Thursday 7-8am except for on Thanksgiving\, Christmas\, and New Years weeks. \n $15 per class | Bring your own yoga mat and towel \nGet your ticket HERE \nTicket Options: \n\nGeneral Admission — $15Join us for a single yoga class. Perfect for drop-ins or trying out a session when it fits your schedule.\n\n 5-Class Promo Pack — $60Get five classes for the price of four. A flexible\, affordable way to practice more. Use your five classes anytime during the yoga schedule.
URL:https://visitbathva.com/event/yoga-22/
LOCATION:The BEAR – Bath Educational + Arts Resource\, 1799 Main St\, Clifton Forge\, VA\, United States
CATEGORIES:Community,Visitor
GEO:37.817336;-79.804569
X-APPLE-STRUCTURED-LOCATION;VALUE=URI;X-ADDRESS=The BEAR – Bath Educational + Arts Resource 1799 Main St Clifton Forge VA United States;X-APPLE-RADIUS=500;X-TITLE=1799 Main St:geo:-79.804569,37.817336
END:VEVENT
BEGIN:VEVENT
DTSTART;TZID=America/New_York:20260419T160000
DTEND;TZID=America/New_York:20260419T170000
DTSTAMP:20260419T172306
CREATED:20260417T211612Z
LAST-MODIFIED:20260418T001644Z
UID:10002631-1776614400-1776618000@visitbathva.com
SUMMARY:Yoga
DESCRIPTION:An all-levels class focused on general body wellness. Strengthen and stretch in a breath-based flow. Beginners welcome! \nThursdays 6-7pm  |  Sundays 4-5pm \n $15 per class | Bring your own yoga mat and towel \nGet your ticket HERE \nTicket Options: \n\nGeneral Admission — $15Join us for a single yoga class. Perfect for drop-ins or trying out a session when it fits your schedule.\n\n 5-Class Promo Pack — $60Get five classes for the price of four. A flexible\, affordable way to practice more. Use your five classes anytime during the yoga schedule.
URL:https://visitbathva.com/event/yoga-52/
LOCATION:The BEAR – Bath Educational + Arts Resource\, 1799 Main St\, Clifton Forge\, VA\, United States
CATEGORIES:Community
GEO:37.817336;-79.804569
X-APPLE-STRUCTURED-LOCATION;VALUE=URI;X-ADDRESS=The BEAR – Bath Educational + Arts Resource 1799 Main St Clifton Forge VA United States;X-APPLE-RADIUS=500;X-TITLE=1799 Main St:geo:-79.804569,37.817336
END:VEVENT
BEGIN:VEVENT
DTSTART;TZID=America/New_York:20260419T183000
DTEND;TZID=America/New_York:20260419T190000
DTSTAMP:20260419T172306
CREATED:20260325T155812Z
LAST-MODIFIED:20260325T155812Z
UID:10002084-1776623400-1776625200@visitbathva.com
SUMMARY:TLC Sound Session
DESCRIPTION:$10.00\n\n\n\nsunday group sound session \na shared sound immersion held every Sunday evening at 6:30\, created to help you release the week behind you and begin anew feeling grounded and open. this 30-minute group session features crystal singing bowls tuned to 432 hz\, working through the root\, heart\, and crown chakras\, plus a 128 hz tuning fork to support nervous system balance. \nthis is an advance registration class only. please select your day and register below! \nhttps://www.thelittlecheerful.com/store/p/tlcgroupsoundsession \nperfect for those seeking community\, restoration\, and a gentle ritual to reset for the week ahead. \nso excited for you and your new beginnings with sound healing! \nlove\, \naimee \np.s. i truly believe that tender loving care (TLC) is a basic human right. if pricing presents a challenge\, please reach out. i got you! \np.p.s. sunnyside will continue grow through word of mouth and shared care. if someone in your life feels like they’d love a day like this\, i’d be so grateful if you passed this along. thank you. you’re the best.
URL:https://visitbathva.com/event/tlc-sound-session/2026-04-19/
LOCATION:Sunnyside\, 34609 mountain valley road\, Millboro\, Virginia\, 24460
CATEGORIES:Community,Visitor
ATTACH;FMTTYPE=image/webp:https://visitbathva.com/wp-content/uploads/2026/03/1.webp
ORGANIZER;CN="TLC Venture":MAILTO:thelittlecheerful@gmail.com
END:VEVENT
END:VCALENDAR